BEGIN:VCALENDAR
VERSION:2.0
PRODID:-//BEW - ECPv6.15.20//NONSGML v1.0//EN
CALSCALE:GREGORIAN
METHOD:PUBLISH
X-ORIGINAL-URL:https://www.bew-elec.co.uk
X-WR-CALDESC:Events for BEW
REFRESH-INTERVAL;VALUE=DURATION:PT1H
X-Robots-Tag:noindex
X-PUBLISHED-TTL:PT1H
BEGIN:VTIMEZONE
TZID:UTC
BEGIN:STANDARD
TZOFFSETFROM:+0000
TZOFFSETTO:+0000
TZNAME:UTC
DTSTART:20250101T000000
END:STANDARD
END:VTIMEZONE
BEGIN:VEVENT
DTSTART;TZID=UTC:20260324T080000
DTEND;TZID=UTC:20260324T130000
DTSTAMP:20260423T120014
CREATED:20260216T165540Z
LAST-MODIFIED:20260216T165540Z
UID:5334-1774339200-1774357200@www.bew-elec.co.uk
SUMMARY:Shrewsbury Calibration Day
DESCRIPTION:Join us on Tuesday\, 24th March for our Shrewsbury Calibration Day! From  8:00 AM to 1:00 PM\, we will be joined by The Calibration Centre\, who bring their expertise to ensure your equipment is perfectly calibrated and ready to perform. \n  \n \n  \nPRICE FREEZE \n  \n \nSame price as 2025! Our Calibration Day prices are exactly the same as last year\, with no increases. \nDon’t miss this opportunity to ensure your tools are in top condition while exploring the latest products and services. We look forward to seeing you there. \n  \nFIND OUT MORE ABOUT ShrewsburyGET DIRECTIONS More about The Calibration Centre  \n  \n 
URL:https://www.bew-elec.co.uk/event/shrewsbury-calibration-day-march-2026/
LOCATION:BEW Shrewsbury\, 24 Longden Coleham\, Shrewsbury\, SY37DB
ATTACH;FMTTYPE=image/jpeg:https://www.bew-elec.co.uk/wp-content/uploads/2026/02/20250512_113103.jpg
END:VEVENT
BEGIN:VEVENT
DTSTART;TZID=UTC:20260325T070000
DTEND;TZID=UTC:20260325T123000
DTSTAMP:20260423T120014
CREATED:20260309T144153Z
LAST-MODIFIED:20260309T144153Z
UID:5391-1774422000-1774441800@www.bew-elec.co.uk
SUMMARY:Cambridge Breakfast Morning
DESCRIPTION:Don’t miss our Breakfast Morning at BEW Cambridge on Wednesday 25th March with Contactum. \nStart your morning right and drop in anytime between 7:00 AM – 12:30 PM. Meet the experts\, discover how Contactum products can support your electrical projects\, and see live product demonstrations in action. \nPlus\, enjoy FREE food and great networking opportunities. \n  \n \n  \nDon’t miss out on this fantastic opportunity\, we look forward to seeing you there! \nFIND OUT MORE ABOUT CAMBRIDGEGET DIRECTIONS \n  \nSupplier on the day\n \n  \nContactum is a UK manufacturer of electrical accessories and circuit protection products. Founded in 1936\, the company has built a strong reputation in the electrical industry for producing reliable and high-quality products used in domestic\, commercial\, and industrial installations. \n  \nSHOP CONTACTUM  \n 
URL:https://www.bew-elec.co.uk/event/cambridge-breakfast-morning/
LOCATION:BEW Cambridge\, Unit G\, The Paddocks 347 Cherry Hinton Road\, Cambridge\, CB1 8DH\, United Kingdom
ATTACH;FMTTYPE=image/jpeg:https://www.bew-elec.co.uk/wp-content/uploads/2025/08/BWP_0057.jpg
END:VEVENT
BEGIN:VEVENT
DTSTART;TZID=UTC:20260326T070000
DTEND;TZID=UTC:20260326T130000
DTSTAMP:20260423T120014
CREATED:20260304T153640Z
LAST-MODIFIED:20260312T114517Z
UID:5374-1774508400-1774530000@www.bew-elec.co.uk
SUMMARY:Guildford Breakfast Morning
DESCRIPTION:Join us at BEW Guildford on Thursday 26th March for our Breakfast Morning with Selectric between 7:00 AM – 1:00 PM. Start your morning right by learning from experts and how they can help you with all your electrical needs. Plus! Enjoy FREE FOOD while networking and seeing our live product demos in action. \n  \n \n  \nDon’t miss out on this fantastic opportunity\, we look forward to seeing you there! \nFind out more about guildfordGet directions \n  \nSuppliers there on the day\n  \n \n  \nSelectric is a UK brand that manufactures a wide range of electrical wiring accessories\, including switches\, sockets\, fused connection units\, and other installation products. Their products are designed for use in domestic\, commercial\, and industrial electrical installations and are built to meet UK safety and quality standards. \nThe company is known for offering reliable\, practical\, and cost-effective electrical accessories that are widely used by electricians and electrical wholesalers. Selectric provides a variety of product ranges and finishes\, allowing installers to choose accessories that suit both functional and aesthetic requirements. \n  \nSHOP SELECTRIC \n  \n 
URL:https://www.bew-elec.co.uk/event/guildford-breakfast-morning-selectric/
LOCATION:BEW Guildford\, 4\, The Moorfield Centre\, Moorfield Road\, Guildford\, GU11RA
ATTACH;FMTTYPE=image/png:https://www.bew-elec.co.uk/wp-content/uploads/2025/04/Guildford-branch.png
END:VEVENT
BEGIN:VEVENT
DTSTART;TZID=UTC:20260330T073000
DTEND;TZID=UTC:20260330T120000
DTSTAMP:20260423T120014
CREATED:20260312T120342Z
LAST-MODIFIED:20260312T120342Z
UID:5404-1774855800-1774872000@www.bew-elec.co.uk
SUMMARY:Rugby Breakfast Morning
DESCRIPTION:Join us for our Breakfast Morning at BEW Rugby on Monday 30th March with Armeg. \nStart your morning right and drop in anytime between 7:30 AM – 12:00 PM. Meet the experts\, discover how Armeg products can support your electrical projects\, and see live product demonstrations in action. \nPlus\, enjoy FREE food\, great networking opportunities\, and take part in our 9 dart challenge! Highest score wins an exclusive prize! \n  \n \n  \nDon’t miss out on this fantastic opportunity\, we look forward to seeing you there! \nFIND OUT MORE ABOUT RUGBYGET DIRECTIONS \n  \nabout armeg\n  \nArmeg products are known for their durability\, precision\, and innovative design\, helping tradespeople drill and cut efficiently in materials such as masonry\, metal\, wood\, and plastics. The brand is widely trusted by electricians\, contractors\, and builders because its tools are built to perform reliably in demanding site conditions. \n  \nSHOP ARMEG \n\n 
URL:https://www.bew-elec.co.uk/event/rugby-breakfast-morning-armeg/
LOCATION:BEW Rugby\, Unit 32 Butlers Leap\, Rugby\, CV213RQ\, United Kingdom
ATTACH;FMTTYPE=image/jpeg:https://www.bew-elec.co.uk/wp-content/uploads/2024/05/Rugby-23.05.18-40-of-71.jpg
END:VEVENT
END:VCALENDAR